BEGIN:VCALENDAR
VERSION:2.0
PRODID:-//UGA Public Relations Student Society of America - ECPv6.15.20//NONSGML v1.0//EN
CALSCALE:GREGORIAN
METHOD:PUBLISH
X-ORIGINAL-URL:https://ugaprssa.org
X-WR-CALDESC:Events for UGA Public Relations Student Society of America
REFRESH-INTERVAL;VALUE=DURATION:PT1H
X-Robots-Tag:noindex
X-PUBLISHED-TTL:PT1H
BEGIN:VTIMEZONE
TZID:America/New_York
BEGIN:DAYLIGHT
TZOFFSETFROM:-0500
TZOFFSETTO:-0400
TZNAME:EDT
DTSTART:20180311T070000
END:DAYLIGHT
BEGIN:STANDARD
TZOFFSETFROM:-0400
TZOFFSETTO:-0500
TZNAME:EST
DTSTART:20181104T060000
END:STANDARD
BEGIN:DAYLIGHT
TZOFFSETFROM:-0500
TZOFFSETTO:-0400
TZNAME:EDT
DTSTART:20190310T070000
END:DAYLIGHT
BEGIN:STANDARD
TZOFFSETFROM:-0400
TZOFFSETTO:-0500
TZNAME:EST
DTSTART:20191103T060000
END:STANDARD
BEGIN:DAYLIGHT
TZOFFSETFROM:-0500
TZOFFSETTO:-0400
TZNAME:EDT
DTSTART:20200308T070000
END:DAYLIGHT
BEGIN:STANDARD
TZOFFSETFROM:-0400
TZOFFSETTO:-0500
TZNAME:EST
DTSTART:20201101T060000
END:STANDARD
BEGIN:DAYLIGHT
TZOFFSETFROM:-0500
TZOFFSETTO:-0400
TZNAME:EDT
DTSTART:20210314T070000
END:DAYLIGHT
BEGIN:STANDARD
TZOFFSETFROM:-0400
TZOFFSETTO:-0500
TZNAME:EST
DTSTART:20211107T060000
END:STANDARD
END:VTIMEZONE
BEGIN:VEVENT
DTSTART;TZID=America/New_York:20201110T183000
DTEND;TZID=America/New_York:20201110T193000
DTSTAMP:20260423T060514
CREATED:20200923T184253Z
LAST-MODIFIED:20200923T184253Z
UID:1819-1605033000-1605036600@ugaprssa.org
SUMMARY:Joint Meeting with Grady Organizations
DESCRIPTION:
URL:https://ugaprssa.org/event/joint-meeting-with-grady-organizations/
CATEGORIES:Meeting
END:VEVENT
BEGIN:VEVENT
DTSTART;TZID=America/New_York:20201027T183000
DTEND;TZID=America/New_York:20201027T193000
DTSTAMP:20260423T060514
CREATED:20200923T184157Z
LAST-MODIFIED:20200923T184157Z
UID:1817-1603823400-1603827000@ugaprssa.org
SUMMARY:Public Affairs Meeting
DESCRIPTION:
URL:https://ugaprssa.org/event/public-affairs-meeting/
CATEGORIES:Meeting
END:VEVENT
BEGIN:VEVENT
DTSTART;TZID=America/New_York:20201013T183000
DTEND;TZID=America/New_York:20201013T193000
DTSTAMP:20260423T060514
CREATED:20200923T184113Z
LAST-MODIFIED:20200923T184113Z
UID:1815-1602613800-1602617400@ugaprssa.org
SUMMARY:Agency Zoom Meeting: Hothouse
DESCRIPTION:
URL:https://ugaprssa.org/event/agency-zoom-meeting-hothouse/
CATEGORIES:Meeting
END:VEVENT
BEGIN:VEVENT
DTSTART;TZID=America/New_York:20200929T183000
DTEND;TZID=America/New_York:20200929T193000
DTSTAMP:20260423T060514
CREATED:20200923T184010Z
LAST-MODIFIED:20200923T184022Z
UID:1813-1601404200-1601407800@ugaprssa.org
SUMMARY:Corporate Zoom Meeting: UPS
DESCRIPTION:
URL:https://ugaprssa.org/event/corporate-zoom-meeting-ups/
CATEGORIES:Meeting
END:VEVENT
BEGIN:VEVENT
DTSTART;TZID=America/New_York:20200414T183000
DTEND;TZID=America/New_York:20200414T200000
DTSTAMP:20260423T060514
CREATED:20200205T014832Z
LAST-MODIFIED:20200205T014832Z
UID:1643-1586889000-1586894400@ugaprssa.org
SUMMARY:Senior Banquet
DESCRIPTION:
URL:https://ugaprssa.org/event/senior-banquet/
LOCATION:Payton Anderson Forum\, Grady College of Journalism
END:VEVENT
BEGIN:VEVENT
DTSTART;TZID=America/New_York:20200414T080000
DTEND;TZID=America/New_York:20200421T233000
DTSTAMP:20260423T060514
CREATED:20200225T224432Z
LAST-MODIFIED:20200225T224432Z
UID:1690-1586851200-1587511800@ugaprssa.org
SUMMARY:Committee Head Applications
DESCRIPTION:
URL:https://ugaprssa.org/event/committee-head-applications/
END:VEVENT
BEGIN:VEVENT
DTSTART;TZID=America/New_York:20200407T183000
DTEND;TZID=America/New_York:20200407T200000
DTSTAMP:20260423T060514
CREATED:20200205T014741Z
LAST-MODIFIED:20200205T014741Z
UID:1641-1586284200-1586289600@ugaprssa.org
SUMMARY:Meeting
DESCRIPTION:
URL:https://ugaprssa.org/event/meeting-2/
LOCATION:Studio 100\, Grady College of Journalism
END:VEVENT
BEGIN:VEVENT
DTSTART;TZID=America/New_York:20200331T183000
DTEND;TZID=America/New_York:20200331T200000
DTSTAMP:20260423T060514
CREATED:20200205T014656Z
LAST-MODIFIED:20200205T014656Z
UID:1639-1585679400-1585684800@ugaprssa.org
SUMMARY:Meeting
DESCRIPTION:
URL:https://ugaprssa.org/event/meeting/
LOCATION:Studio 100\, Grady College of Journalism
END:VEVENT
BEGIN:VEVENT
DTSTART;TZID=America/New_York:20200327T083000
DTEND;TZID=America/New_York:20200327T133000
DTSTAMP:20260423T060514
CREATED:20200205T014549Z
LAST-MODIFIED:20200205T014549Z
UID:1637-1585297800-1585315800@ugaprssa.org
SUMMARY:Digital Drive Thru Workshop
DESCRIPTION:The AdPR Department at Grady College is proud to announce the first annual Digital Drive Thru workshop scheduled for Friday\, March 27 from 8:30 AM until 1:30 PM. We are proud to welcome See.Spark.Go as our participating sponsor along with Josh Deyton\, Vice President of Digital Strategy in their Atlanta office.\n\nIndustry professionals from See.Spark.Go and Tweed Recording Studio will be on hand to lead the workshop sessions. All Grady students are encouraged to apply and can request to attend one of the three sessions:Podcasting\, iPhone Photography or Mobile Video. We will do our best to accommodate your first or second request but we can’t guarantee placement.\n\nSpace is limited to 18 participants and applications are open through 5 PM on February 28. There is a $10 non-refundable fee to cover lunch and reserve your space if you are accepted.
URL:https://ugaprssa.org/event/digital-drive-thru-workshop/
LOCATION:Payton Anderson Forum\, Grady College of Journalism
END:VEVENT
BEGIN:VEVENT
DTSTART;TZID=America/New_York:20200316T080000
DTEND;TZID=America/New_York:20200327T233000
DTSTAMP:20260423T060514
CREATED:20200225T224334Z
LAST-MODIFIED:20200225T224334Z
UID:1688-1584345600-1585351800@ugaprssa.org
SUMMARY:Exec Board Applications
DESCRIPTION:
URL:https://ugaprssa.org/event/exec-board-applications/
END:VEVENT
BEGIN:VEVENT
DTSTART;TZID=America/New_York:20200303T200000
DTEND;TZID=America/New_York:20200303T230000
DTSTAMP:20260423T060514
CREATED:20200225T224728Z
LAST-MODIFIED:20200225T224728Z
UID:1692-1583265600-1583276400@ugaprssa.org
SUMMARY:Percentage Night at Clarke's
DESCRIPTION:
URL:https://ugaprssa.org/event/percentage-night-at-clarkes/
END:VEVENT
BEGIN:VEVENT
DTSTART;TZID=America/New_York:20200303T183000
DTEND;TZID=America/New_York:20200303T200000
DTSTAMP:20260423T060514
CREATED:20200205T014356Z
LAST-MODIFIED:20200211T231257Z
UID:1635-1583260200-1583265600@ugaprssa.org
SUMMARY:NEBO Meeting
DESCRIPTION:
URL:https://ugaprssa.org/event/nebo-meeting/
LOCATION:MLC 350
END:VEVENT
BEGIN:VEVENT
DTSTART;TZID=America/New_York:20200218T183000
DTEND;TZID=America/New_York:20200218T200000
DTSTAMP:20260423T060514
CREATED:20200205T014213Z
LAST-MODIFIED:20200205T014213Z
UID:1631-1582050600-1582056000@ugaprssa.org
SUMMARY:Georgia Power Meeting
DESCRIPTION:
URL:https://ugaprssa.org/event/georgia-power-meeting/
LOCATION:Studio 100\, Grady College of Journalism
END:VEVENT
BEGIN:VEVENT
DTSTART;VALUE=DATE:20200218
DTEND;VALUE=DATE:20200219
DTSTAMP:20260423T060514
CREATED:20200205T014306Z
LAST-MODIFIED:20200205T014306Z
UID:1633-1581984000-1582070399@ugaprssa.org
SUMMARY:Spring Registration Closes
DESCRIPTION:
URL:https://ugaprssa.org/event/spring-registration-closes/
END:VEVENT
BEGIN:VEVENT
DTSTART;TZID=America/New_York:20200204T183000
DTEND;TZID=America/New_York:20200204T200000
DTSTAMP:20260423T060514
CREATED:20200205T014042Z
LAST-MODIFIED:20200205T014042Z
UID:1628-1580841000-1580846400@ugaprssa.org
SUMMARY:New England Patriots Meeting
DESCRIPTION:
URL:https://ugaprssa.org/event/new-england-patriots-meeting/
LOCATION:Studio 100\, Grady College of Journalism
END:VEVENT
BEGIN:VEVENT
DTSTART;TZID=America/New_York:20200121T183000
DTEND;TZID=America/New_York:20200121T200000
DTSTAMP:20260423T060514
CREATED:20200205T013844Z
LAST-MODIFIED:20200205T013844Z
UID:1626-1579631400-1579636800@ugaprssa.org
SUMMARY:The Coca-Cola Company Meeting
DESCRIPTION:
URL:https://ugaprssa.org/event/the-coca-cola-company-meeting/
LOCATION:Studio 100\, Grady College of Journalism
END:VEVENT
BEGIN:VEVENT
DTSTART;TZID=America/New_York:20191203T183000
DTEND;TZID=America/New_York:20191203T193000
DTSTAMP:20260423T060514
CREATED:20191022T133050Z
LAST-MODIFIED:20191022T133050Z
UID:1520-1575397800-1575401400@ugaprssa.org
SUMMARY:Holiday Social
DESCRIPTION:
URL:https://ugaprssa.org/event/holiday-social/
LOCATION:Studio 100\, Grady College of Journalism
END:VEVENT
BEGIN:VEVENT
DTSTART;TZID=America/New_York:20191121T090000
DTEND;TZID=America/New_York:20191121T120000
DTSTAMP:20260423T060514
CREATED:20191112T192428Z
LAST-MODIFIED:20191113T222515Z
UID:1556-1574326800-1574337600@ugaprssa.org
SUMMARY:Classic City Tour 2019
DESCRIPTION:The Classic City Tour offers members a chance to meet local talent in Athens and develop opportunities with companies offering internships and entry-level positions in communications. The 2019 tour is scheduled for Thursday\, November 21 from 9AM until noon. Applications are due to Kim Landrum in room 253 by noon on Monday\, November 18. \nSchedule:\n• 9 AM until 10:30: Jackson Spalding \n• 11 AM until noon: See.Spark.Go \n  \nApplication\nDownload the application and return to Kim Landrum in room 253 by noon on Monday\, November 18. Space is limited to 15 students and participants will be chosen on a first-come\, first-served basis. Students will be notified by 5 PM on Monday\, November 18.
URL:https://ugaprssa.org/event/classic-city-tour-2019/
CATEGORIES:Agency Tour
END:VEVENT
BEGIN:VEVENT
DTSTART;TZID=America/New_York:20191119T183000
DTEND;TZID=America/New_York:20191119T193000
DTSTAMP:20260423T060514
CREATED:20191017T215019Z
LAST-MODIFIED:20191022T133529Z
UID:1510-1574188200-1574191800@ugaprssa.org
SUMMARY:Meeting: Agency vs. Corporate with Moxie and Delta
DESCRIPTION:Join us on November 19 in Studio 100 as we tackle the differences between agency and corporate with representatives from both. Food and drinks will be provided.
URL:https://ugaprssa.org/event/meeting-agency-vs-corporate/
CATEGORIES:Meeting
END:VEVENT
BEGIN:VEVENT
DTSTART;TZID=America/New_York:20191105T183000
DTEND;TZID=America/New_York:20191105T193000
DTSTAMP:20260423T060514
CREATED:20191017T213801Z
LAST-MODIFIED:20191017T213801Z
UID:1505-1572978600-1572982200@ugaprssa.org
SUMMARY:Home Depot Meeting
DESCRIPTION:Join us on Tuesday\, November 5 in Studio 100 as we hear from representatives of Home Depot. Snacks and drinks will be provided.
URL:https://ugaprssa.org/event/home-depot-meeting/
LOCATION:Studio 100\, Grady College of Journalism
CATEGORIES:Meeting
END:VEVENT
BEGIN:VEVENT
DTSTART;TZID=America/New_York:20191022T103000
DTEND;TZID=America/New_York:20191022T170000
DTSTAMP:20260423T060514
CREATED:20191017T214505Z
LAST-MODIFIED:20191017T214505Z
UID:1507-1571740200-1571763600@ugaprssa.org
SUMMARY:ADPR Connection
DESCRIPTION:Attend the ONLY career fair geared towards advertising and public relations students on October 22 at Tate Grand Hall. For more information and how to register\, go to https://grady.uga.edu/adprconnection/.
URL:https://ugaprssa.org/event/adpr-connection/
LOCATION:Tate Center Grand Hall\, UGA\, Athens\, GA\, 30602\, United States
END:VEVENT
BEGIN:VEVENT
DTSTART;VALUE=DATE:20191015
DTEND;VALUE=DATE:20191016
DTSTAMP:20260423T060514
CREATED:20190910T163516Z
LAST-MODIFIED:20190910T165608Z
UID:1431-1571097600-1571183999@ugaprssa.org
SUMMARY:Classic City Tour
DESCRIPTION:Classic City Tour Scheduled for October 15\, 2019\nThe annual PRSSA Classic City Tour is scheduled for Tuesday\, October 15\, 2019. Applications will be available soon and space is limited. \nThe tour is free but all participants must be active PRSSA members. Our tour is limited to 15 participants and applications are accepted on a first come\, first served basis with priority given to seniors. Please do not apply if you are not able to attend the entire Tour; you may not pick and choose which offices you would like to attend. \nSchedule:\n• 9 AM until 10:30 AM: Jackson Spalding (125 W Washington St #775) \n• 11 AM until noon: See.Spark.Go (250 N Milledge Ave) \n• 1:30 PM until 2:30 PM: UGA Sports Communications (1 Selig Cir\, Butts-Mehre Building)
URL:https://ugaprssa.org/event/classic-city-tour-2/
CATEGORIES:Agency Tour
END:VEVENT
BEGIN:VEVENT
DTSTART;TZID=America/New_York:20190917T183000
DTEND;TZID=America/New_York:20190917T193000
DTSTAMP:20260423T060514
CREATED:20190821T211100Z
LAST-MODIFIED:20190910T164415Z
UID:1323-1568745000-1568748600@ugaprssa.org
SUMMARY:Student Internship Panel
DESCRIPTION:Join us in Studio 100 to hear from current and former PRSSA members and learn how they landed their summer internships. How do you get your foot in the door? What is the best way to set yourself apart? Find out the answers on Tuesday\, September 17 from 6:30-7:30.
URL:https://ugaprssa.org/event/student-internship-panel/
LOCATION:Studio 100\, Grady College of Journalism
CATEGORIES:Meeting
END:VEVENT
BEGIN:VEVENT
DTSTART;TZID=America/New_York:20190916T122000
DTEND;TZID=America/New_York:20190916T131000
DTSTAMP:20260423T060514
CREATED:20190910T155926Z
LAST-MODIFIED:20190910T155926Z
UID:1421-1568636400-1568639400@ugaprssa.org
SUMMARY:Cox LEAD Program Information Session
DESCRIPTION:Monday\, Sep. 16: Info Session in PAF\nCox is an incredible company to work for\, where the unmatched culture drives everything we do including how we run our business. They are the third largest telecommunications provider of data\, phone\, and cable services located in Atlanta. \nWithin Cox\, the LEAD program is a unique leadership development program that leverages the project management discipline and 12-18-month rotations to give early career individuals a broad view of the company and marketable skills through challenging projects in a supportive environment. \nLearn more from the Cox Communications team during their Grady info session on Monday\, Sep. 16 from 12:20-1:10 p.m. in the PAF. They will be providing lunch for attendees. \nThe LEAD Program is a great opportunity for a Grady student\, and Grady grads have been successful in the program from its start.
URL:https://ugaprssa.org/event/cox-lead-program-information-session/
LOCATION:Payton Anderson Forum\, Grady College of Journalism
CATEGORIES:Information Session
END:VEVENT
BEGIN:VEVENT
DTSTART;TZID=America/New_York:20190913T003000
DTEND;TZID=America/New_York:20190917T235900
DTSTAMP:20260423T060514
CREATED:20190910T160747Z
LAST-MODIFIED:20190910T165657Z
UID:1423-1568334600-1568764740@ugaprssa.org
SUMMARY:Committee Applications Open
DESCRIPTION:Committee applications are open!\nBefore applying please read through the committee descriptions to make sure you are applying for the position you have the biggest passion for and are excited to be a part of. When you are ready\, please fill out the online application. \nMember Relations\nThis committee will focus on increasing the engagement of members through incentives and creating innovative ideas to bring the chapter closer together and more welcoming. The Member Relations Committee will also assist with the recruitment of new members during the fall and spring semester. \nOutreach (Fundraising & Networking)\nThis committee will focus on connecting our members to each other and to the Athens community. With this being the first year of this committee we will be growing the roles and responsibilities throughout. \nContent\nThis committee is the new form of our publications committee. The focus will be on creating written content. In the past the content has included feature stories\, member spotlights\, industry news\, and any others you and your committee may have. \nSocial Media\nOur Social Media committee will work closely with E-Board to ensure PRSSA has a strong presence on social media platforms. The main responsibilities of this committee are to post social media content\, help run the social pages and blog\, creating original content\, and running social media campaigns. \nPublic Relations\nThis committee is responsible for all things public relations. The main responsibilities will be creating graphics\, fliers\, press releases\, monitoring our organization’s media relations\, and working closely with the Social Media committee to ensure a unified presentation of our organization and important events. \nEvent Planning\nAs Event Planning Committee Head you will be responsible for planning and executing the bi-weekly meetings\, senior banquet\, and collaborating with the Outreach Committee. \nIf you have any questions during the application process please feel free to email Kat Blanchard\, kmb50397@uga.edu \n**** The application will close on September 17th at midnight. The interviews will be held in the following days. Please bring a copy of your resume to your interview time. Decisions on committees will be made by September 24th. *******
URL:https://ugaprssa.org/event/committee-application-deadline/
CATEGORIES:Registration Deadline
END:VEVENT
BEGIN:VEVENT
DTSTART;TZID=America/New_York:20190910T180000
DTEND;TZID=America/New_York:20190910T190000
DTSTAMP:20260423T060514
CREATED:20190910T163846Z
LAST-MODIFIED:20190910T164257Z
UID:1433-1568138400-1568142000@ugaprssa.org
SUMMARY:AdPR Week: Joint Meeting with AdClub
DESCRIPTION:Please join us on Tuesday\, September 24 from 6:00 PM – 7:00 PM in the North PJ Auditorium for a joint meeting with AdClub. We will be welcoming a guest speaker as part of Grady’s AdPR Week. \nDetails will be posted as they are confirmed.
URL:https://ugaprssa.org/event/adpr-week-joint-meeting-with-adclub/
CATEGORIES:Meeting
END:VEVENT
BEGIN:VEVENT
DTSTART;TZID=America/New_York:20190906T080000
DTEND;TZID=America/New_York:20191015T235900
DTSTAMP:20260423T060514
CREATED:20190910T161729Z
LAST-MODIFIED:20190910T161729Z
UID:1427-1567756800-1571183940@ugaprssa.org
SUMMARY:Membership Applications Open
DESCRIPTION:Join the UGA PRSSA Student Chapter\nFill out the online application by 11:59 PM on Tuesday\, October 15 and pay your dues online to become a member of UGA’s PRSSA Drewry Chapter. You will receive weekly chapter emails including meeting dates\, socials and networking opportunities in addition to a members-only email with information about current internships and job opportunities. Don’t forget to pay your dues at the end of this form to officially become a member! \nDues are $70 and close Tuesday\, October 15th at 11:59 p.m. \n***YOU DO NOT HAVE TO RE-PAY DUES IF YOU PAID FOR YOUR MEMBERSHIP IN THE SPRING***
URL:https://ugaprssa.org/event/membership-applications-open/
CATEGORIES:Registration Deadline
END:VEVENT
BEGIN:VEVENT
DTSTART;TZID=America/New_York:20190904T180000
DTEND;TZID=America/New_York:20190904T190000
DTSTAMP:20260423T060514
CREATED:20190821T210834Z
LAST-MODIFIED:20190821T210834Z
UID:1320-1567620000-1567623600@ugaprssa.org
SUMMARY:Lockheed Martin Information Session
DESCRIPTION:Join us from 6:00-7:00 PM in room 311 of Grady College to learn more about the Lockheed Martin Communications Leadership Development Program. Food and drinks will be served.
URL:https://ugaprssa.org/event/lockheed-martin-information-session/
LOCATION:Room 311\, Grady College\, 120 Hooper Street\, Athens\, GA\, 30602\, United States
END:VEVENT
BEGIN:VEVENT
DTSTART;TZID=America/New_York:20190903T183000
DTEND;TZID=America/New_York:20190903T193000
DTSTAMP:20260423T060514
CREATED:20190821T210511Z
LAST-MODIFIED:20190821T210511Z
UID:1318-1567535400-1567539000@ugaprssa.org
SUMMARY:Kick-off Meeting
DESCRIPTION:Join us on Tuesday\, September 3 as we kick off the academic year in Studio 100 of Grady College. You don’t have to be a member to join us and see what we are all about. Bring your friends or classmates interested in pursuing a career in public relations\, advertising or communications. Pizza\, snacks and drinks will be available.
URL:https://ugaprssa.org/event/kick-off-meeting/
LOCATION:Studio 100\, Grady College of Journalism
CATEGORIES:Meeting
END:VEVENT
END:VCALENDAR