BEGIN:VCALENDAR
VERSION:2.0
PRODID:-//UGA Public Relations Student Society of America - ECPv6.15.20//NONSGML v1.0//EN
CALSCALE:GREGORIAN
METHOD:PUBLISH
X-ORIGINAL-URL:https://ugaprssa.org
X-WR-CALDESC:Events for UGA Public Relations Student Society of America
REFRESH-INTERVAL;VALUE=DURATION:PT1H
X-Robots-Tag:noindex
X-PUBLISHED-TTL:PT1H
BEGIN:VTIMEZONE
TZID:America/New_York
BEGIN:DAYLIGHT
TZOFFSETFROM:-0500
TZOFFSETTO:-0400
TZNAME:EDT
DTSTART:20200308T070000
END:DAYLIGHT
BEGIN:STANDARD
TZOFFSETFROM:-0400
TZOFFSETTO:-0500
TZNAME:EST
DTSTART:20201101T060000
END:STANDARD
BEGIN:DAYLIGHT
TZOFFSETFROM:-0500
TZOFFSETTO:-0400
TZNAME:EDT
DTSTART:20210314T070000
END:DAYLIGHT
BEGIN:STANDARD
TZOFFSETFROM:-0400
TZOFFSETTO:-0500
TZNAME:EST
DTSTART:20211107T060000
END:STANDARD
BEGIN:DAYLIGHT
TZOFFSETFROM:-0500
TZOFFSETTO:-0400
TZNAME:EDT
DTSTART:20220313T070000
END:DAYLIGHT
BEGIN:STANDARD
TZOFFSETFROM:-0400
TZOFFSETTO:-0500
TZNAME:EST
DTSTART:20221106T060000
END:STANDARD
BEGIN:DAYLIGHT
TZOFFSETFROM:-0500
TZOFFSETTO:-0400
TZNAME:EDT
DTSTART:20230312T070000
END:DAYLIGHT
BEGIN:STANDARD
TZOFFSETFROM:-0400
TZOFFSETTO:-0500
TZNAME:EST
DTSTART:20231105T060000
END:STANDARD
BEGIN:DAYLIGHT
TZOFFSETFROM:-0500
TZOFFSETTO:-0400
TZNAME:EDT
DTSTART:20240310T070000
END:DAYLIGHT
BEGIN:STANDARD
TZOFFSETFROM:-0400
TZOFFSETTO:-0500
TZNAME:EST
DTSTART:20241103T060000
END:STANDARD
END:VTIMEZONE
BEGIN:VEVENT
DTSTART;TZID=America/New_York:20230208T100000
DTEND;TZID=America/New_York:20230208T153000
DTSTAMP:20260422T222231
CREATED:20230121T162615Z
LAST-MODIFIED:20230121T165337Z
UID:2634-1675850400-1675870200@ugaprssa.org
SUMMARY:Career Fair
DESCRIPTION:
URL:https://ugaprssa.org/event/career-fair/
LOCATION:Tate Center Grand Hall\, UGA\, Athens\, GA\, 30602\, United States
END:VEVENT
BEGIN:VEVENT
DTSTART;TZID=America/New_York:20230207T183000
DTEND;TZID=America/New_York:20230207T193000
DTSTAMP:20260422T222231
CREATED:20230121T161319Z
LAST-MODIFIED:20230121T161319Z
UID:2618-1675794600-1675798200@ugaprssa.org
SUMMARY:Second Meeting: Cosmetics PR
DESCRIPTION:
URL:https://ugaprssa.org/event/second-meeting-cosmetics-pr/
END:VEVENT
BEGIN:VEVENT
DTSTART;VALUE=DATE:20230206
DTEND;VALUE=DATE:20230207
DTSTAMP:20260422T222231
CREATED:20230121T162350Z
LAST-MODIFIED:20230121T162350Z
UID:2632-1675641600-1675727999@ugaprssa.org
SUMMARY:Career Fair Prep Day
DESCRIPTION:
URL:https://ugaprssa.org/event/career-fair-prep-day/
END:VEVENT
BEGIN:VEVENT
DTSTART;VALUE=DATE:20230130
DTEND;VALUE=DATE:20230203
DTSTAMP:20260422T222231
CREATED:20230121T162256Z
LAST-MODIFIED:20230121T162256Z
UID:2630-1675036800-1675382399@ugaprssa.org
SUMMARY:DC Agency Tour
DESCRIPTION:
URL:https://ugaprssa.org/event/dc-agency-tour/
END:VEVENT
BEGIN:VEVENT
DTSTART;TZID=America/New_York:20230124T183000
DTEND;TZID=America/New_York:20230124T193000
DTSTAMP:20260422T222231
CREATED:20230121T161007Z
LAST-MODIFIED:20230121T161007Z
UID:2616-1674585000-1674588600@ugaprssa.org
SUMMARY:Kickoff Meeting with Recent Grady Grad Panel
DESCRIPTION:
URL:https://ugaprssa.org/event/kickoff-meeting-with-recent-grady-grad-panel/
LOCATION:Studio 100\, Grady College of Journalism
END:VEVENT
BEGIN:VEVENT
DTSTART;TZID=America/New_York:20221206T183000
DTEND;TZID=America/New_York:20221206T193000
DTSTAMP:20260422T222231
CREATED:20220826T003511Z
LAST-MODIFIED:20220826T003511Z
UID:2327-1670351400-1670355000@ugaprssa.org
SUMMARY:Winter Social!
DESCRIPTION:
URL:https://ugaprssa.org/event/winter-social/
END:VEVENT
BEGIN:VEVENT
DTSTART;TZID=America/New_York:20221115T183000
DTEND;TZID=America/New_York:20221115T193000
DTSTAMP:20260422T222231
CREATED:20220826T003423Z
LAST-MODIFIED:20220826T003423Z
UID:2325-1668537000-1668540600@ugaprssa.org
SUMMARY:Healthcare PR Meeting
DESCRIPTION:
URL:https://ugaprssa.org/event/healthcare-pr-meeting/
END:VEVENT
BEGIN:VEVENT
DTSTART;TZID=America/New_York:20221108T183000
DTEND;TZID=America/New_York:20221108T193000
DTSTAMP:20260422T222231
CREATED:20220826T003342Z
LAST-MODIFIED:20220826T003342Z
UID:2323-1667932200-1667935800@ugaprssa.org
SUMMARY:Agency PR Meeting
DESCRIPTION:
URL:https://ugaprssa.org/event/agency-pr-meeting/
END:VEVENT
BEGIN:VEVENT
DTSTART;TZID=America/New_York:20221101T235900
DTEND;TZID=America/New_York:20221101T235900
DTSTAMP:20260422T222231
CREATED:20220826T004015Z
LAST-MODIFIED:20220826T004015Z
UID:2333-1667347140-1667347140@ugaprssa.org
SUMMARY:Membership Due Date!
DESCRIPTION:
URL:https://ugaprssa.org/event/membership-due-date/
END:VEVENT
BEGIN:VEVENT
DTSTART;TZID=America/New_York:20221018T183000
DTEND;TZID=America/New_York:20221018T193000
DTSTAMP:20260422T222231
CREATED:20220826T003259Z
LAST-MODIFIED:20220826T003259Z
UID:2321-1666117800-1666121400@ugaprssa.org
SUMMARY:ADPR Connection Prep Meeting
DESCRIPTION:
URL:https://ugaprssa.org/event/adpr-connection-prep-meeting/
END:VEVENT
BEGIN:VEVENT
DTSTART;TZID=America/New_York:20221004T183000
DTEND;TZID=America/New_York:20221004T193000
DTSTAMP:20260422T222231
CREATED:20220826T003013Z
LAST-MODIFIED:20220826T003049Z
UID:2316-1664908200-1664911800@ugaprssa.org
SUMMARY:Political PR Meeting
DESCRIPTION:
URL:https://ugaprssa.org/event/recent-grady-grads-meeting/
END:VEVENT
BEGIN:VEVENT
DTSTART;TZID=America/New_York:20220920T120000
DTEND;TZID=America/New_York:20220920T210000
DTSTAMP:20260422T222231
CREATED:20220915T043339Z
LAST-MODIFIED:20220915T043339Z
UID:2454-1663675200-1663707600@ugaprssa.org
SUMMARY:Ding Tea Percentage Night
DESCRIPTION:
URL:https://ugaprssa.org/event/ding-tea-percentage-night/
END:VEVENT
BEGIN:VEVENT
DTSTART;TZID=America/New_York:20220907T090000
DTEND;TZID=America/New_York:20220907T090000
DTSTAMP:20260422T222231
CREATED:20220826T003746Z
LAST-MODIFIED:20220826T003746Z
UID:2329-1662541200-1662541200@ugaprssa.org
SUMMARY:Committee Applications Open
DESCRIPTION:
URL:https://ugaprssa.org/event/committee-applications-open/
END:VEVENT
BEGIN:VEVENT
DTSTART;TZID=America/New_York:20220906T183000
DTEND;TZID=America/New_York:20220906T193000
DTSTAMP:20260422T222231
CREATED:20220826T002417Z
LAST-MODIFIED:20220826T002417Z
UID:2314-1662489000-1662492600@ugaprssa.org
SUMMARY:Kickoff Meeting!
DESCRIPTION:
URL:https://ugaprssa.org/event/kickoff-meeting/
END:VEVENT
BEGIN:VEVENT
DTSTART;TZID=America/New_York:20220426T183000
DTEND;TZID=America/New_York:20220426T183000
DTSTAMP:20260422T222231
CREATED:20220118T162025Z
LAST-MODIFIED:20220118T162025Z
UID:2135-1650997800-1650997800@ugaprssa.org
SUMMARY:Senior Banquet
DESCRIPTION:
URL:https://ugaprssa.org/event/senior-banquet-2/
END:VEVENT
BEGIN:VEVENT
DTSTART;TZID=America/New_York:20220419T183000
DTEND;TZID=America/New_York:20220419T183000
DTSTAMP:20260422T222231
CREATED:20220118T161944Z
LAST-MODIFIED:20220118T161944Z
UID:2133-1650393000-1650393000@ugaprssa.org
SUMMARY:Sports PR Meeting
DESCRIPTION:
URL:https://ugaprssa.org/event/sports-pr-meeting/
END:VEVENT
BEGIN:VEVENT
DTSTART;TZID=America/New_York:20220405T183000
DTEND;TZID=America/New_York:20220405T183000
DTSTAMP:20260422T222231
CREATED:20220118T161904Z
LAST-MODIFIED:20220118T161904Z
UID:2131-1649183400-1649183400@ugaprssa.org
SUMMARY:Agency Panel
DESCRIPTION:
URL:https://ugaprssa.org/event/agency-panel/
END:VEVENT
BEGIN:VEVENT
DTSTART;TZID=America/New_York:20220401T000000
DTEND;TZID=America/New_York:20220401T000000
DTSTAMP:20260422T222231
CREATED:20220313T200637Z
LAST-MODIFIED:20220313T200637Z
UID:2211-1648771200-1648771200@ugaprssa.org
SUMMARY:2022 - 2023 Executive Board Application Closes
DESCRIPTION:
URL:https://ugaprssa.org/event/2022-2023-executive-board-application-closes/
END:VEVENT
BEGIN:VEVENT
DTSTART;TZID=America/New_York:20220322T183000
DTEND;TZID=America/New_York:20220322T183000
DTSTAMP:20260422T222231
CREATED:20220118T161831Z
LAST-MODIFIED:20220118T161831Z
UID:2129-1647973800-1647973800@ugaprssa.org
SUMMARY:DEI Meeting
DESCRIPTION:
URL:https://ugaprssa.org/event/dei-meeting/
END:VEVENT
BEGIN:VEVENT
DTSTART;TZID=America/New_York:20220315T183000
DTEND;TZID=America/New_York:20220315T183000
DTSTAMP:20260422T222231
CREATED:20220118T161755Z
LAST-MODIFIED:20220118T161755Z
UID:2127-1647369000-1647369000@ugaprssa.org
SUMMARY:Corporate Communications Panel
DESCRIPTION:
URL:https://ugaprssa.org/event/corporate-communications-panel/
END:VEVENT
BEGIN:VEVENT
DTSTART;VALUE=DATE:20220314
DTEND;VALUE=DATE:20220315
DTSTAMP:20260422T222231
CREATED:20220313T200407Z
LAST-MODIFIED:20220313T200407Z
UID:2209-1647216000-1647302399@ugaprssa.org
SUMMARY:2022 - 2023 Executive Board Application Opens
DESCRIPTION:The 2022 – 2023 executive board applications will open on March 14th and will close on April 1st at 11:59 p.m. Please see the executive board description page for more information on each position available and feel free to contact any current E-board members with questions!
URL:https://ugaprssa.org/event/2022-2023-executive-board-application-opens/
END:VEVENT
BEGIN:VEVENT
DTSTART;TZID=America/New_York:20220222T183000
DTEND;TZID=America/New_York:20220222T183000
DTSTAMP:20260422T222231
CREATED:20220118T161714Z
LAST-MODIFIED:20220118T161714Z
UID:2125-1645554600-1645554600@ugaprssa.org
SUMMARY:Crisis Communication Coalition Meeting with Tom Cullen
DESCRIPTION:
URL:https://ugaprssa.org/event/crisis-communication-coalition-meeting-with-tom-cullen/
END:VEVENT
BEGIN:VEVENT
DTSTART;VALUE=DATE:20220214
DTEND;VALUE=DATE:20220215
DTSTAMP:20260422T222231
CREATED:20220125T024625Z
LAST-MODIFIED:20220125T024625Z
UID:2150-1644796800-1644883199@ugaprssa.org
SUMMARY:Committee Decisions Released
DESCRIPTION:
URL:https://ugaprssa.org/event/committee-decisions-released/
END:VEVENT
BEGIN:VEVENT
DTSTART;TZID=America/New_York:20220207T080000
DTEND;TZID=America/New_York:20220211T210000
DTSTAMP:20260422T222231
CREATED:20220125T024549Z
LAST-MODIFIED:20220125T025006Z
UID:2148-1644220800-1644613200@ugaprssa.org
SUMMARY:Committee Interviews
DESCRIPTION:
URL:https://ugaprssa.org/event/committee-interviews/
END:VEVENT
BEGIN:VEVENT
DTSTART;VALUE=DATE:20220204
DTEND;VALUE=DATE:20220205
DTSTAMP:20260422T222231
CREATED:20220125T024340Z
LAST-MODIFIED:20220125T024340Z
UID:2146-1643932800-1644019199@ugaprssa.org
SUMMARY:Committee Apps Close
DESCRIPTION:
URL:https://ugaprssa.org/event/committee-apps-close/
END:VEVENT
BEGIN:VEVENT
DTSTART;TZID=America/New_York:20220201T183000
DTEND;TZID=America/New_York:20220201T183000
DTSTAMP:20260422T222231
CREATED:20220118T161626Z
LAST-MODIFIED:20220118T161626Z
UID:2123-1643740200-1643740200@ugaprssa.org
SUMMARY:Career Day Workshop with Career Center
DESCRIPTION:
URL:https://ugaprssa.org/event/career-day-workshop-with-career-center/
END:VEVENT
BEGIN:VEVENT
DTSTART;TZID=America/New_York:20220125T183000
DTEND;TZID=America/New_York:20220125T183000
DTSTAMP:20260422T222231
CREATED:20220118T161349Z
LAST-MODIFIED:20220118T161349Z
UID:2121-1643135400-1643135400@ugaprssa.org
SUMMARY:Food and Beverage PR Meeting with Green Olive Media
DESCRIPTION:PRSSA KICK-OFF MEETING WITH Green Olive Media \nWho: Lindy Simmons and Natalie Siegman \nWhat: Food and Beverage PR Meeting \nWhen: Tuesday\, Jan. 25 at 6:30 p.m. \nWhere: Studio 100 in Grady
URL:https://ugaprssa.org/event/food-and-beverage-pr-meeting-with-green-olive-media/
LOCATION:Studio 100\, Grady College of Journalism
END:VEVENT
BEGIN:VEVENT
DTSTART;VALUE=DATE:20220124
DTEND;VALUE=DATE:20220125
DTSTAMP:20260422T222231
CREATED:20220125T024244Z
LAST-MODIFIED:20220125T024244Z
UID:2144-1642982400-1643068799@ugaprssa.org
SUMMARY:Committee Apps Open
DESCRIPTION:
URL:https://ugaprssa.org/event/committee-apps-open/
END:VEVENT
BEGIN:VEVENT
DTSTART;VALUE=DATE:20211108
DTEND;VALUE=DATE:20211109
DTSTAMP:20260422T222231
CREATED:20210908T174806Z
LAST-MODIFIED:20210908T174806Z
UID:1985-1636329600-1636415999@ugaprssa.org
SUMMARY:Second Round Committee Decisions Released
DESCRIPTION:
URL:https://ugaprssa.org/event/second-round-committee-decisions-released/
END:VEVENT
BEGIN:VEVENT
DTSTART;VALUE=DATE:20211104
DTEND;VALUE=DATE:20211106
DTSTAMP:20260422T222231
CREATED:20210908T174734Z
LAST-MODIFIED:20210908T174734Z
UID:1983-1635984000-1636156799@ugaprssa.org
SUMMARY:Second Round Committee Interviews
DESCRIPTION:
URL:https://ugaprssa.org/event/second-round-committee-interviews/
END:VEVENT
END:VCALENDAR