BEGIN:VCALENDAR
VERSION:2.0
PRODID:-//UGA Public Relations Student Society of America - ECPv6.15.20//NONSGML v1.0//EN
CALSCALE:GREGORIAN
METHOD:PUBLISH
X-WR-CALNAME:UGA Public Relations Student Society of America
X-ORIGINAL-URL:https://ugaprssa.org
X-WR-CALDESC:Events for UGA Public Relations Student Society of America
REFRESH-INTERVAL;VALUE=DURATION:PT1H
X-Robots-Tag:noindex
X-PUBLISHED-TTL:PT1H
BEGIN:VTIMEZONE
TZID:America/New_York
BEGIN:DAYLIGHT
TZOFFSETFROM:-0500
TZOFFSETTO:-0400
TZNAME:EDT
DTSTART:20210314T070000
END:DAYLIGHT
BEGIN:STANDARD
TZOFFSETFROM:-0400
TZOFFSETTO:-0500
TZNAME:EST
DTSTART:20211107T060000
END:STANDARD
BEGIN:DAYLIGHT
TZOFFSETFROM:-0500
TZOFFSETTO:-0400
TZNAME:EDT
DTSTART:20220313T070000
END:DAYLIGHT
BEGIN:STANDARD
TZOFFSETFROM:-0400
TZOFFSETTO:-0500
TZNAME:EST
DTSTART:20221106T060000
END:STANDARD
BEGIN:DAYLIGHT
TZOFFSETFROM:-0500
TZOFFSETTO:-0400
TZNAME:EDT
DTSTART:20230312T070000
END:DAYLIGHT
BEGIN:STANDARD
TZOFFSETFROM:-0400
TZOFFSETTO:-0500
TZNAME:EST
DTSTART:20231105T060000
END:STANDARD
BEGIN:DAYLIGHT
TZOFFSETFROM:-0500
TZOFFSETTO:-0400
TZNAME:EDT
DTSTART:20240310T070000
END:DAYLIGHT
BEGIN:STANDARD
TZOFFSETFROM:-0400
TZOFFSETTO:-0500
TZNAME:EST
DTSTART:20241103T060000
END:STANDARD
BEGIN:DAYLIGHT
TZOFFSETFROM:-0500
TZOFFSETTO:-0400
TZNAME:EDT
DTSTART:20250309T070000
END:DAYLIGHT
BEGIN:STANDARD
TZOFFSETFROM:-0400
TZOFFSETTO:-0500
TZNAME:EST
DTSTART:20251102T060000
END:STANDARD
END:VTIMEZONE
BEGIN:VEVENT
DTSTART;TZID=America/New_York:20241001T183000
DTEND;TZID=America/New_York:20241001T193000
DTSTAMP:20260422T184643
CREATED:20240903T182209Z
LAST-MODIFIED:20240903T182209Z
UID:3059-1727807400-1727811000@ugaprssa.org
SUMMARY:Publicity in NYC
DESCRIPTION:Studio 100\, Grady College of Journalism
URL:https://ugaprssa.org/event/publicity-in-nyc/
END:VEVENT
BEGIN:VEVENT
DTSTART;TZID=America/New_York:20240917T183000
DTEND;TZID=America/New_York:20240917T193000
DTSTAMP:20260422T184643
CREATED:20240903T182127Z
LAST-MODIFIED:20240903T182127Z
UID:3057-1726597800-1726601400@ugaprssa.org
SUMMARY:PR Campaigns & Careers
DESCRIPTION:Studio 100\, Grady College of Journalism
URL:https://ugaprssa.org/event/pr-campaigns-careers/
END:VEVENT
BEGIN:VEVENT
DTSTART;TZID=America/New_York:20240903T183000
DTEND;TZID=America/New_York:20240903T193000
DTSTAMP:20260422T184643
CREATED:20240903T182020Z
LAST-MODIFIED:20240903T182020Z
UID:3054-1725388200-1725391800@ugaprssa.org
SUMMARY:Get to Know Exec & Professionalism Workshop
DESCRIPTION:Studio 100\, Grady College of Journalism
URL:https://ugaprssa.org/event/get-to-know-exec-professionalism-workshop/
END:VEVENT
BEGIN:VEVENT
DTSTART;TZID=America/New_York:20231128T183000
DTEND;TZID=America/New_York:20231128T193000
DTSTAMP:20260422T184643
CREATED:20230906T175729Z
LAST-MODIFIED:20230906T175729Z
UID:2816-1701196200-1701199800@ugaprssa.org
SUMMARY:Winter social
DESCRIPTION:
URL:https://ugaprssa.org/event/winter-social-2/
LOCATION:Studio 100\, Grady College of Journalism
END:VEVENT
BEGIN:VEVENT
DTSTART;TZID=America/New_York:20231114T183000
DTEND;TZID=America/New_York:20231114T193000
DTSTAMP:20260422T184643
CREATED:20230906T175648Z
LAST-MODIFIED:20230906T175648Z
UID:2814-1699986600-1699990200@ugaprssa.org
SUMMARY:WIX website meeting
DESCRIPTION:
URL:https://ugaprssa.org/event/wix-website-meeting/
LOCATION:Studio 100\, Grady College of Journalism
END:VEVENT
BEGIN:VEVENT
DTSTART;TZID=America/New_York:20231107T183000
DTEND;TZID=America/New_York:20231107T193000
DTSTAMP:20260422T184643
CREATED:20230906T175618Z
LAST-MODIFIED:20230906T175618Z
UID:2812-1699381800-1699385400@ugaprssa.org
SUMMARY:ADPR Connection prep meeting
DESCRIPTION:
URL:https://ugaprssa.org/event/adpr-connection-prep-meeting-2/
LOCATION:Studio 100\, Grady College of Journalism
END:VEVENT
BEGIN:VEVENT
DTSTART;VALUE=DATE:20231101
DTEND;VALUE=DATE:20231102
DTSTAMP:20260422T184643
CREATED:20230906T175540Z
LAST-MODIFIED:20230906T175540Z
UID:2810-1698796800-1698883199@ugaprssa.org
SUMMARY:Dues/membership deadline!
DESCRIPTION:
URL:https://ugaprssa.org/event/dues-membership-deadline/
END:VEVENT
BEGIN:VEVENT
DTSTART;TZID=America/New_York:20231017T183000
DTEND;TZID=America/New_York:20231017T193000
DTSTAMP:20260422T184643
CREATED:20230906T175503Z
LAST-MODIFIED:20230906T175503Z
UID:2808-1697567400-1697571000@ugaprssa.org
SUMMARY:PR vs. AD agency life (Weber Shandwick and Fitzco) meeting
DESCRIPTION:
URL:https://ugaprssa.org/event/pr-vs-ad-agency-life-weber-shandwick-and-fitzco-meeting/
LOCATION:Studio 100\, Grady College of Journalism
END:VEVENT
BEGIN:VEVENT
DTSTART;TZID=America/New_York:20231003T183000
DTEND;TZID=America/New_York:20231003T193000
DTSTAMP:20260422T184643
CREATED:20230906T175424Z
LAST-MODIFIED:20230906T175424Z
UID:2806-1696357800-1696361400@ugaprssa.org
SUMMARY:General body meeting 3
DESCRIPTION:
URL:https://ugaprssa.org/event/general-body-meeting-3/
LOCATION:Studio 100\, Grady College of Journalism
END:VEVENT
BEGIN:VEVENT
DTSTART;TZID=America/New_York:20230919T183000
DTEND;TZID=America/New_York:20230919T193000
DTSTAMP:20260422T184643
CREATED:20230906T175154Z
LAST-MODIFIED:20230906T175154Z
UID:2803-1695148200-1695151800@ugaprssa.org
SUMMARY:Career opportunities in the AdPR field panel
DESCRIPTION:
URL:https://ugaprssa.org/event/career-opportunities-in-the-adpr-field-panel/
LOCATION:Studio 100\, Grady College of Journalism
END:VEVENT
BEGIN:VEVENT
DTSTART;VALUE=DATE:20230915
DTEND;VALUE=DATE:20230916
DTSTAMP:20260422T184643
CREATED:20230906T175102Z
LAST-MODIFIED:20230906T175102Z
UID:2801-1694736000-1694822399@ugaprssa.org
SUMMARY:Committee applications close
DESCRIPTION:
URL:https://ugaprssa.org/event/committee-applications-close/
END:VEVENT
BEGIN:VEVENT
DTSTART;TZID=America/New_York:20230905T183000
DTEND;TZID=America/New_York:20230905T193000
DTSTAMP:20260422T184643
CREATED:20230905T220134Z
LAST-MODIFIED:20230905T220134Z
UID:2797-1693938600-1693942200@ugaprssa.org
SUMMARY:Kickoff Meeting
DESCRIPTION:
URL:https://ugaprssa.org/event/kickoff-meeting-2/
LOCATION:Studio 100\, Grady College of Journalism
CATEGORIES:Meeting
END:VEVENT
BEGIN:VEVENT
DTSTART;VALUE=DATE:20230905
DTEND;VALUE=DATE:20230906
DTSTAMP:20260422T184643
CREATED:20230906T175014Z
LAST-MODIFIED:20230906T175014Z
UID:2799-1693872000-1693958399@ugaprssa.org
SUMMARY:Committee applications open
DESCRIPTION:
URL:https://ugaprssa.org/event/committee-applications-open-2/
LOCATION:Virtual
END:VEVENT
BEGIN:VEVENT
DTSTART;TZID=America/New_York:20230411T183000
DTEND;TZID=America/New_York:20230411T193000
DTSTAMP:20260422T184643
CREATED:20230121T162011Z
LAST-MODIFIED:20230121T162011Z
UID:2626-1681237800-1681241400@ugaprssa.org
SUMMARY:Sixth General Body Meeting
DESCRIPTION:
URL:https://ugaprssa.org/event/sixth-general-body-meeting/
END:VEVENT
BEGIN:VEVENT
DTSTART;VALUE=DATE:20230331
DTEND;VALUE=DATE:20230401
DTSTAMP:20260422T184643
CREATED:20230121T170118Z
LAST-MODIFIED:20230121T170118Z
UID:2641-1680220800-1680307199@ugaprssa.org
SUMMARY:Digital Drive Through
DESCRIPTION:
URL:https://ugaprssa.org/event/digital-drive-through/
END:VEVENT
BEGIN:VEVENT
DTSTART;TZID=America/New_York:20230328T183000
DTEND;TZID=America/New_York:20230328T193000
DTSTAMP:20260422T184643
CREATED:20230121T161901Z
LAST-MODIFIED:20230121T161901Z
UID:2624-1680028200-1680031800@ugaprssa.org
SUMMARY:Fifth Meeting with Elyse Hammett Case Studies
DESCRIPTION:
URL:https://ugaprssa.org/event/fifth-meeting-with-elyse-hammett-case-studies/
END:VEVENT
BEGIN:VEVENT
DTSTART;TZID=America/New_York:20230314T183000
DTEND;TZID=America/New_York:20230314T193000
DTSTAMP:20260422T184643
CREATED:20230121T161726Z
LAST-MODIFIED:20230121T161726Z
UID:2622-1678818600-1678822200@ugaprssa.org
SUMMARY:Fourth General Body Meeting
DESCRIPTION:
URL:https://ugaprssa.org/event/fourth-general-body-meeting/
END:VEVENT
BEGIN:VEVENT
DTSTART;VALUE=DATE:20230301
DTEND;VALUE=DATE:20230302
DTSTAMP:20260422T184643
CREATED:20230121T165914Z
LAST-MODIFIED:20230121T165914Z
UID:2639-1677628800-1677715199@ugaprssa.org
SUMMARY:Membership Closes
DESCRIPTION:
URL:https://ugaprssa.org/event/membership-closes/
END:VEVENT
BEGIN:VEVENT
DTSTART;TZID=America/New_York:20230221T183000
DTEND;TZID=America/New_York:20230221T193000
DTSTAMP:20260422T184643
CREATED:20230121T161545Z
LAST-MODIFIED:20230121T161545Z
UID:2620-1677004200-1677007800@ugaprssa.org
SUMMARY:Third Meeting featuring a DEI Panel
DESCRIPTION:
URL:https://ugaprssa.org/event/third-meeting-featuring-a-dei-panel/
END:VEVENT
BEGIN:VEVENT
DTSTART;TZID=America/New_York:20230210T094500
DTEND;TZID=America/New_York:20230210T150000
DTSTAMP:20260422T184643
CREATED:20230121T165707Z
LAST-MODIFIED:20230121T165707Z
UID:2637-1676022300-1676041200@ugaprssa.org
SUMMARY:PRSSA District Conference
DESCRIPTION:
URL:https://ugaprssa.org/event/prssa-district-conference/
LOCATION:Virtual
END:VEVENT
BEGIN:VEVENT
DTSTART;TZID=America/New_York:20230208T100000
DTEND;TZID=America/New_York:20230208T153000
DTSTAMP:20260422T184643
CREATED:20230121T162615Z
LAST-MODIFIED:20230121T165337Z
UID:2634-1675850400-1675870200@ugaprssa.org
SUMMARY:Career Fair
DESCRIPTION:
URL:https://ugaprssa.org/event/career-fair/
LOCATION:Tate Center Grand Hall\, UGA\, Athens\, GA\, 30602\, United States
END:VEVENT
BEGIN:VEVENT
DTSTART;TZID=America/New_York:20230207T183000
DTEND;TZID=America/New_York:20230207T193000
DTSTAMP:20260422T184643
CREATED:20230121T161319Z
LAST-MODIFIED:20230121T161319Z
UID:2618-1675794600-1675798200@ugaprssa.org
SUMMARY:Second Meeting: Cosmetics PR
DESCRIPTION:
URL:https://ugaprssa.org/event/second-meeting-cosmetics-pr/
END:VEVENT
BEGIN:VEVENT
DTSTART;VALUE=DATE:20230206
DTEND;VALUE=DATE:20230207
DTSTAMP:20260422T184643
CREATED:20230121T162350Z
LAST-MODIFIED:20230121T162350Z
UID:2632-1675641600-1675727999@ugaprssa.org
SUMMARY:Career Fair Prep Day
DESCRIPTION:
URL:https://ugaprssa.org/event/career-fair-prep-day/
END:VEVENT
BEGIN:VEVENT
DTSTART;VALUE=DATE:20230130
DTEND;VALUE=DATE:20230203
DTSTAMP:20260422T184643
CREATED:20230121T162256Z
LAST-MODIFIED:20230121T162256Z
UID:2630-1675036800-1675382399@ugaprssa.org
SUMMARY:DC Agency Tour
DESCRIPTION:
URL:https://ugaprssa.org/event/dc-agency-tour/
END:VEVENT
BEGIN:VEVENT
DTSTART;TZID=America/New_York:20230124T183000
DTEND;TZID=America/New_York:20230124T193000
DTSTAMP:20260422T184643
CREATED:20230121T161007Z
LAST-MODIFIED:20230121T161007Z
UID:2616-1674585000-1674588600@ugaprssa.org
SUMMARY:Kickoff Meeting with Recent Grady Grad Panel
DESCRIPTION:
URL:https://ugaprssa.org/event/kickoff-meeting-with-recent-grady-grad-panel/
LOCATION:Studio 100\, Grady College of Journalism
END:VEVENT
BEGIN:VEVENT
DTSTART;TZID=America/New_York:20221206T183000
DTEND;TZID=America/New_York:20221206T193000
DTSTAMP:20260422T184643
CREATED:20220826T003511Z
LAST-MODIFIED:20220826T003511Z
UID:2327-1670351400-1670355000@ugaprssa.org
SUMMARY:Winter Social!
DESCRIPTION:
URL:https://ugaprssa.org/event/winter-social/
END:VEVENT
BEGIN:VEVENT
DTSTART;TZID=America/New_York:20221115T183000
DTEND;TZID=America/New_York:20221115T193000
DTSTAMP:20260422T184643
CREATED:20220826T003423Z
LAST-MODIFIED:20220826T003423Z
UID:2325-1668537000-1668540600@ugaprssa.org
SUMMARY:Healthcare PR Meeting
DESCRIPTION:
URL:https://ugaprssa.org/event/healthcare-pr-meeting/
END:VEVENT
BEGIN:VEVENT
DTSTART;TZID=America/New_York:20221108T183000
DTEND;TZID=America/New_York:20221108T193000
DTSTAMP:20260422T184643
CREATED:20220826T003342Z
LAST-MODIFIED:20220826T003342Z
UID:2323-1667932200-1667935800@ugaprssa.org
SUMMARY:Agency PR Meeting
DESCRIPTION:
URL:https://ugaprssa.org/event/agency-pr-meeting/
END:VEVENT
BEGIN:VEVENT
DTSTART;TZID=America/New_York:20221101T235900
DTEND;TZID=America/New_York:20221101T235900
DTSTAMP:20260422T184643
CREATED:20220826T004015Z
LAST-MODIFIED:20220826T004015Z
UID:2333-1667347140-1667347140@ugaprssa.org
SUMMARY:Membership Due Date!
DESCRIPTION:
URL:https://ugaprssa.org/event/membership-due-date/
END:VEVENT
BEGIN:VEVENT
DTSTART;TZID=America/New_York:20221018T183000
DTEND;TZID=America/New_York:20221018T193000
DTSTAMP:20260422T184643
CREATED:20220826T003259Z
LAST-MODIFIED:20220826T003259Z
UID:2321-1666117800-1666121400@ugaprssa.org
SUMMARY:ADPR Connection Prep Meeting
DESCRIPTION:
URL:https://ugaprssa.org/event/adpr-connection-prep-meeting/
END:VEVENT
END:VCALENDAR