BEGIN:VCALENDAR
VERSION:2.0
PRODID:-//UGA Public Relations Student Society of America - ECPv6.15.20//NONSGML v1.0//EN
CALSCALE:GREGORIAN
METHOD:PUBLISH
X-WR-CALNAME:UGA Public Relations Student Society of America
X-ORIGINAL-URL:https://ugaprssa.org
X-WR-CALDESC:Events for UGA Public Relations Student Society of America
REFRESH-INTERVAL;VALUE=DURATION:PT1H
X-Robots-Tag:noindex
X-PUBLISHED-TTL:PT1H
BEGIN:VTIMEZONE
TZID:America/New_York
BEGIN:DAYLIGHT
TZOFFSETFROM:-0500
TZOFFSETTO:-0400
TZNAME:EDT
DTSTART:20180311T070000
END:DAYLIGHT
BEGIN:STANDARD
TZOFFSETFROM:-0400
TZOFFSETTO:-0500
TZNAME:EST
DTSTART:20181104T060000
END:STANDARD
BEGIN:DAYLIGHT
TZOFFSETFROM:-0500
TZOFFSETTO:-0400
TZNAME:EDT
DTSTART:20190310T070000
END:DAYLIGHT
BEGIN:STANDARD
TZOFFSETFROM:-0400
TZOFFSETTO:-0500
TZNAME:EST
DTSTART:20191103T060000
END:STANDARD
BEGIN:DAYLIGHT
TZOFFSETFROM:-0500
TZOFFSETTO:-0400
TZNAME:EDT
DTSTART:20200308T070000
END:DAYLIGHT
BEGIN:STANDARD
TZOFFSETFROM:-0400
TZOFFSETTO:-0500
TZNAME:EST
DTSTART:20201101T060000
END:STANDARD
END:VTIMEZONE
BEGIN:VEVENT
DTSTART;TZID=America/New_York:20190913T003000
DTEND;TZID=America/New_York:20190917T235900
DTSTAMP:20260423T150824
CREATED:20190910T160747Z
LAST-MODIFIED:20190910T165657Z
UID:1423-1568334600-1568764740@ugaprssa.org
SUMMARY:Committee Applications Open
DESCRIPTION:Committee applications are open!\nBefore applying please read through the committee descriptions to make sure you are applying for the position you have the biggest passion for and are excited to be a part of. When you are ready\, please fill out the online application. \nMember Relations\nThis committee will focus on increasing the engagement of members through incentives and creating innovative ideas to bring the chapter closer together and more welcoming. The Member Relations Committee will also assist with the recruitment of new members during the fall and spring semester. \nOutreach (Fundraising & Networking)\nThis committee will focus on connecting our members to each other and to the Athens community. With this being the first year of this committee we will be growing the roles and responsibilities throughout. \nContent\nThis committee is the new form of our publications committee. The focus will be on creating written content. In the past the content has included feature stories\, member spotlights\, industry news\, and any others you and your committee may have. \nSocial Media\nOur Social Media committee will work closely with E-Board to ensure PRSSA has a strong presence on social media platforms. The main responsibilities of this committee are to post social media content\, help run the social pages and blog\, creating original content\, and running social media campaigns. \nPublic Relations\nThis committee is responsible for all things public relations. The main responsibilities will be creating graphics\, fliers\, press releases\, monitoring our organization’s media relations\, and working closely with the Social Media committee to ensure a unified presentation of our organization and important events. \nEvent Planning\nAs Event Planning Committee Head you will be responsible for planning and executing the bi-weekly meetings\, senior banquet\, and collaborating with the Outreach Committee. \nIf you have any questions during the application process please feel free to email Kat Blanchard\, kmb50397@uga.edu \n**** The application will close on September 17th at midnight. The interviews will be held in the following days. Please bring a copy of your resume to your interview time. Decisions on committees will be made by September 24th. *******
URL:https://ugaprssa.org/event/committee-application-deadline/
CATEGORIES:Registration Deadline
END:VEVENT
BEGIN:VEVENT
DTSTART;TZID=America/New_York:20190906T080000
DTEND;TZID=America/New_York:20191015T235900
DTSTAMP:20260423T150824
CREATED:20190910T161729Z
LAST-MODIFIED:20190910T161729Z
UID:1427-1567756800-1571183940@ugaprssa.org
SUMMARY:Membership Applications Open
DESCRIPTION:Join the UGA PRSSA Student Chapter\nFill out the online application by 11:59 PM on Tuesday\, October 15 and pay your dues online to become a member of UGA’s PRSSA Drewry Chapter. You will receive weekly chapter emails including meeting dates\, socials and networking opportunities in addition to a members-only email with information about current internships and job opportunities. Don’t forget to pay your dues at the end of this form to officially become a member! \nDues are $70 and close Tuesday\, October 15th at 11:59 p.m. \n***YOU DO NOT HAVE TO RE-PAY DUES IF YOU PAID FOR YOUR MEMBERSHIP IN THE SPRING***
URL:https://ugaprssa.org/event/membership-applications-open/
CATEGORIES:Registration Deadline
END:VEVENT
END:VCALENDAR