BEGIN:VCALENDAR
VERSION:2.0
PRODID:-//UGA Public Relations Student Society of America - ECPv6.15.20//NONSGML v1.0//EN
CALSCALE:GREGORIAN
METHOD:PUBLISH
X-WR-CALNAME:UGA Public Relations Student Society of America
X-ORIGINAL-URL:https://ugaprssa.org
X-WR-CALDESC:Events for UGA Public Relations Student Society of America
REFRESH-INTERVAL;VALUE=DURATION:PT1H
X-Robots-Tag:noindex
X-PUBLISHED-TTL:PT1H
BEGIN:VTIMEZONE
TZID:America/New_York
BEGIN:DAYLIGHT
TZOFFSETFROM:-0500
TZOFFSETTO:-0400
TZNAME:EDT
DTSTART:20180311T070000
END:DAYLIGHT
BEGIN:STANDARD
TZOFFSETFROM:-0400
TZOFFSETTO:-0500
TZNAME:EST
DTSTART:20181104T060000
END:STANDARD
BEGIN:DAYLIGHT
TZOFFSETFROM:-0500
TZOFFSETTO:-0400
TZNAME:EDT
DTSTART:20190310T070000
END:DAYLIGHT
BEGIN:STANDARD
TZOFFSETFROM:-0400
TZOFFSETTO:-0500
TZNAME:EST
DTSTART:20191103T060000
END:STANDARD
BEGIN:DAYLIGHT
TZOFFSETFROM:-0500
TZOFFSETTO:-0400
TZNAME:EDT
DTSTART:20200308T070000
END:DAYLIGHT
BEGIN:STANDARD
TZOFFSETFROM:-0400
TZOFFSETTO:-0500
TZNAME:EST
DTSTART:20201101T060000
END:STANDARD
END:VTIMEZONE
BEGIN:VEVENT
DTSTART;TZID=America/New_York:20191121T090000
DTEND;TZID=America/New_York:20191121T120000
DTSTAMP:20260421T175245
CREATED:20191112T192428Z
LAST-MODIFIED:20191113T222515Z
UID:1556-1574326800-1574337600@ugaprssa.org
SUMMARY:Classic City Tour 2019
DESCRIPTION:The Classic City Tour offers members a chance to meet local talent in Athens and develop opportunities with companies offering internships and entry-level positions in communications. The 2019 tour is scheduled for Thursday\, November 21 from 9AM until noon. Applications are due to Kim Landrum in room 253 by noon on Monday\, November 18. \nSchedule:\n• 9 AM until 10:30: Jackson Spalding \n• 11 AM until noon: See.Spark.Go \n  \nApplication\nDownload the application and return to Kim Landrum in room 253 by noon on Monday\, November 18. Space is limited to 15 students and participants will be chosen on a first-come\, first-served basis. Students will be notified by 5 PM on Monday\, November 18.
URL:https://ugaprssa.org/event/classic-city-tour-2019/
CATEGORIES:Agency Tour
END:VEVENT
BEGIN:VEVENT
DTSTART;VALUE=DATE:20191015
DTEND;VALUE=DATE:20191016
DTSTAMP:20260421T175245
CREATED:20190910T163516Z
LAST-MODIFIED:20190910T165608Z
UID:1431-1571097600-1571183999@ugaprssa.org
SUMMARY:Classic City Tour
DESCRIPTION:Classic City Tour Scheduled for October 15\, 2019\nThe annual PRSSA Classic City Tour is scheduled for Tuesday\, October 15\, 2019. Applications will be available soon and space is limited. \nThe tour is free but all participants must be active PRSSA members. Our tour is limited to 15 participants and applications are accepted on a first come\, first served basis with priority given to seniors. Please do not apply if you are not able to attend the entire Tour; you may not pick and choose which offices you would like to attend. \nSchedule:\n• 9 AM until 10:30 AM: Jackson Spalding (125 W Washington St #775) \n• 11 AM until noon: See.Spark.Go (250 N Milledge Ave) \n• 1:30 PM until 2:30 PM: UGA Sports Communications (1 Selig Cir\, Butts-Mehre Building)
URL:https://ugaprssa.org/event/classic-city-tour-2/
CATEGORIES:Agency Tour
END:VEVENT
END:VCALENDAR